BEGIN:VCALENDAR
VERSION:2.0
PRODID:-//MOVE Chamber - ECPv6.15.17//NONSGML v1.0//EN
CALSCALE:GREGORIAN
METHOD:PUBLISH
X-ORIGINAL-URL:https://www.movechamber.org
X-WR-CALDESC:Events for MOVE Chamber
REFRESH-INTERVAL;VALUE=DURATION:PT1H
X-Robots-Tag:noindex
X-PUBLISHED-TTL:PT1H
BEGIN:VTIMEZONE
TZID:America/Chicago
BEGIN:DAYLIGHT
TZOFFSETFROM:-0600
TZOFFSETTO:-0500
TZNAME:CDT
DTSTART:20230312T080000
END:DAYLIGHT
BEGIN:STANDARD
TZOFFSETFROM:-0500
TZOFFSETTO:-0600
TZNAME:CST
DTSTART:20231105T070000
END:STANDARD
BEGIN:DAYLIGHT
TZOFFSETFROM:-0600
TZOFFSETTO:-0500
TZNAME:CDT
DTSTART:20240310T080000
END:DAYLIGHT
BEGIN:STANDARD
TZOFFSETFROM:-0500
TZOFFSETTO:-0600
TZNAME:CST
DTSTART:20241103T070000
END:STANDARD
BEGIN:DAYLIGHT
TZOFFSETFROM:-0600
TZOFFSETTO:-0500
TZNAME:CDT
DTSTART:20250309T080000
END:DAYLIGHT
BEGIN:STANDARD
TZOFFSETFROM:-0500
TZOFFSETTO:-0600
TZNAME:CST
DTSTART:20251102T070000
END:STANDARD
END:VTIMEZONE
BEGIN:VEVENT
DTSTART;TZID=America/Chicago:20241219T183000
DTEND;TZID=America/Chicago:20241219T200000
DTSTAMP:20260419T115237
CREATED:20241203T205303Z
LAST-MODIFIED:20241225T031811Z
UID:3468-1734633000-1734638400@www.movechamber.org
SUMMARY:The Secrets of Success: Abed Abedi of iCode
DESCRIPTION:Register Now\n  \nRevolutionize the way you think! ‍Join us for an extraordinary evening designed to inspire and empower your personal and professional growth. \n  \nAbed Abedi has grown iCode to 120+ locations with $50M in revenue. \n  \nHe will share his formula for success to help you grow and network
URL:https://www.movechamber.org/event/the-secrets-of-success-abed-abedi-of-icode/
LOCATION:GEM Multicultural Center\, 6300 Independence Parkway Suite A\, Plano\, TX\, 75023\, United States
CATEGORIES:Inform,Networking,Texas
ATTACH;FMTTYPE=image/png:https://www.movechamber.org/wp-content/uploads/2024/12/Final-12192024.png
END:VEVENT
END:VCALENDAR