BEGIN:VCALENDAR
VERSION:2.0
PRODID:-//MOVE Chamber - ECPv6.15.17//NONSGML v1.0//EN
CALSCALE:GREGORIAN
METHOD:PUBLISH
X-ORIGINAL-URL:https://www.movechamber.org
X-WR-CALDESC:Events for MOVE Chamber
REFRESH-INTERVAL;VALUE=DURATION:PT1H
X-Robots-Tag:noindex
X-PUBLISHED-TTL:PT1H
BEGIN:VTIMEZONE
TZID:America/New_York
BEGIN:DAYLIGHT
TZOFFSETFROM:-0500
TZOFFSETTO:-0400
TZNAME:EDT
DTSTART:20230312T070000
END:DAYLIGHT
BEGIN:STANDARD
TZOFFSETFROM:-0400
TZOFFSETTO:-0500
TZNAME:EST
DTSTART:20231105T060000
END:STANDARD
BEGIN:DAYLIGHT
TZOFFSETFROM:-0500
TZOFFSETTO:-0400
TZNAME:EDT
DTSTART:20240310T070000
END:DAYLIGHT
BEGIN:STANDARD
TZOFFSETFROM:-0400
TZOFFSETTO:-0500
TZNAME:EST
DTSTART:20241103T060000
END:STANDARD
BEGIN:DAYLIGHT
TZOFFSETFROM:-0500
TZOFFSETTO:-0400
TZNAME:EDT
DTSTART:20250309T070000
END:DAYLIGHT
BEGIN:STANDARD
TZOFFSETFROM:-0400
TZOFFSETTO:-0500
TZNAME:EST
DTSTART:20251102T060000
END:STANDARD
END:VTIMEZONE
BEGIN:VEVENT
DTSTART;TZID=America/New_York:20241221T110000
DTEND;TZID=America/New_York:20241221T120000
DTSTAMP:20260419T115250
CREATED:20241209T051706Z
LAST-MODIFIED:20241216T022845Z
UID:3493-1734778800-1734782400@www.movechamber.org
SUMMARY:Loudoun County Business Town Hall
DESCRIPTION:Register Now\n  \nJoin us for a participative town hall meeting for Muslim business owners and the broader community to voice their concerns on the statewide legislative level.
URL:https://www.movechamber.org/event/loudoun-county-business-town-hall/
LOCATION:Cascades Library\, 21030 Whitfield Pl\, Potomac Falls\, VA\, 20165\, United States
ATTACH;FMTTYPE=image/png:https://www.movechamber.org/wp-content/uploads/2024/12/MOVE-Flyer-THLOUDOUN-v2.png
END:VEVENT
END:VCALENDAR