BEGIN:VCALENDAR
VERSION:2.0
PRODID:-//MOVE Chamber - ECPv6.15.17//NONSGML v1.0//EN
CALSCALE:GREGORIAN
METHOD:PUBLISH
X-ORIGINAL-URL:https://www.movechamber.org
X-WR-CALDESC:Events for MOVE Chamber
REFRESH-INTERVAL;VALUE=DURATION:PT1H
X-Robots-Tag:noindex
X-PUBLISHED-TTL:PT1H
BEGIN:VTIMEZONE
TZID:America/New_York
BEGIN:DAYLIGHT
TZOFFSETFROM:-0500
TZOFFSETTO:-0400
TZNAME:EDT
DTSTART:20240310T070000
END:DAYLIGHT
BEGIN:STANDARD
TZOFFSETFROM:-0400
TZOFFSETTO:-0500
TZNAME:EST
DTSTART:20241103T060000
END:STANDARD
BEGIN:DAYLIGHT
TZOFFSETFROM:-0500
TZOFFSETTO:-0400
TZNAME:EDT
DTSTART:20250309T070000
END:DAYLIGHT
BEGIN:STANDARD
TZOFFSETFROM:-0400
TZOFFSETTO:-0500
TZNAME:EST
DTSTART:20251102T060000
END:STANDARD
BEGIN:DAYLIGHT
TZOFFSETFROM:-0500
TZOFFSETTO:-0400
TZNAME:EDT
DTSTART:20260308T070000
END:DAYLIGHT
BEGIN:STANDARD
TZOFFSETFROM:-0400
TZOFFSETTO:-0500
TZNAME:EST
DTSTART:20261101T060000
END:STANDARD
END:VTIMEZONE
BEGIN:VEVENT
DTSTART;TZID=America/New_York:20250126T100000
DTEND;TZID=America/New_York:20250126T140000
DTSTAMP:20260419T164753
CREATED:20241229T191043Z
LAST-MODIFIED:20241230T034915Z
UID:3582-1737885600-1737900000@www.movechamber.org
SUMMARY:How to Dominate a Niche and Build an 8 Figure Brand on Amazon
DESCRIPTION:Register Now\n  \nJoin Amazon Guru Ahmet who has built multimillion dollar brands to learn to market\, sell and grow on Amazon.
URL:https://www.movechamber.org/event/how-to-dominate-a-niche-and-build-an-8-figure-brand-on-amazon/
LOCATION:GEM Multicultural Center\, 6300 Independence Parkway Suite A\, Plano\, TX\, 75023\, United States
CATEGORIES:Business Seminar,Inform,Texas
ATTACH;FMTTYPE=image/png:https://www.movechamber.org/wp-content/uploads/2024/12/TX-AMZGURU.png
END:VEVENT
END:VCALENDAR