BEGIN:VCALENDAR
VERSION:2.0
PRODID:-//MOVE Chamber - ECPv6.15.17//NONSGML v1.0//EN
CALSCALE:GREGORIAN
METHOD:PUBLISH
X-WR-CALNAME:MOVE Chamber
X-ORIGINAL-URL:https://www.movechamber.org
X-WR-CALDESC:Events for MOVE Chamber
REFRESH-INTERVAL;VALUE=DURATION:PT1H
X-Robots-Tag:noindex
X-PUBLISHED-TTL:PT1H
BEGIN:VTIMEZONE
TZID:UTC
BEGIN:STANDARD
TZOFFSETFROM:+0000
TZOFFSETTO:+0000
TZNAME:UTC
DTSTART:20230101T000000
END:STANDARD
END:VTIMEZONE
BEGIN:VEVENT
DTSTART;TZID=UTC:20240504T140000
DTEND;TZID=UTC:20240504T160000
DTSTAMP:20260423T194752
CREATED:20240420T085122Z
LAST-MODIFIED:20240420T085308Z
UID:2779-1714831200-1714838400@www.movechamber.org
SUMMARY:Akbar Sheikh: My Journey
DESCRIPTION:Buy Tickets Now \n  \nJoin us at the “How I Built a “Make More\, Give More” Incubator that made $200 Million event to learn from industry experts who have achieved remarkable success in the business world. Discover the secrets behind building a successful incubator that not only generates profits but also gives back to the community. This in-person event will take place at 10300 Eaton Place\, Fairfax\, VA\, USA. Don’t miss this opportunity to gain valuable insights and network with like-minded individuals!
URL:https://www.movechamber.org/event/akbar-sheikh-my-journey/
LOCATION:Eaton Place Conference Room (First Floor)\, 10300 Eaton Pl\, Fairfax\, VA\, 22030\, United States
CATEGORIES:My Journey
ATTACH;FMTTYPE=image/png:https://www.movechamber.org/wp-content/uploads/2024/04/22124.png
END:VEVENT
BEGIN:VEVENT
DTSTART;TZID=UTC:20240518T120000
DTEND;TZID=UTC:20240518T140000
DTSTAMP:20260423T194752
CREATED:20240504T212846Z
LAST-MODIFIED:20240504T213024Z
UID:2841-1716033600-1716040800@www.movechamber.org
SUMMARY:Mateen Riaz: My Journey
DESCRIPTION:Buy Tickets Now \n  \nLearn how Mateen Riaz was able to Build a Thriving IT Company Leveraging His ServiceNow Expertise! Discover the Strategies\, Insights\, and Vision that Propelled Him to Success in the Tech World.
URL:https://www.movechamber.org/event/mateen-riaz-my-journey/
LOCATION:Eaton Place Conference Room (First Floor)\, 10300 Eaton Pl\, Fairfax\, VA\, 22030\, United States
CATEGORIES:My Journey
ATTACH;FMTTYPE=image/png:https://www.movechamber.org/wp-content/uploads/2024/05/12124.png
END:VEVENT
END:VCALENDAR