BEGIN:VCALENDAR
VERSION:2.0
PRODID:-//MOVE Chamber - ECPv6.15.17//NONSGML v1.0//EN
CALSCALE:GREGORIAN
METHOD:PUBLISH
X-ORIGINAL-URL:https://www.movechamber.org
X-WR-CALDESC:Events for MOVE Chamber
REFRESH-INTERVAL;VALUE=DURATION:PT1H
X-Robots-Tag:noindex
X-PUBLISHED-TTL:PT1H
BEGIN:VTIMEZONE
TZID:America/New_York
BEGIN:DAYLIGHT
TZOFFSETFROM:-0500
TZOFFSETTO:-0400
TZNAME:EDT
DTSTART:20240310T070000
END:DAYLIGHT
BEGIN:STANDARD
TZOFFSETFROM:-0400
TZOFFSETTO:-0500
TZNAME:EST
DTSTART:20241103T060000
END:STANDARD
BEGIN:DAYLIGHT
TZOFFSETFROM:-0500
TZOFFSETTO:-0400
TZNAME:EDT
DTSTART:20250309T070000
END:DAYLIGHT
BEGIN:STANDARD
TZOFFSETFROM:-0400
TZOFFSETTO:-0500
TZNAME:EST
DTSTART:20251102T060000
END:STANDARD
BEGIN:DAYLIGHT
TZOFFSETFROM:-0500
TZOFFSETTO:-0400
TZNAME:EDT
DTSTART:20260308T070000
END:DAYLIGHT
BEGIN:STANDARD
TZOFFSETFROM:-0400
TZOFFSETTO:-0500
TZNAME:EST
DTSTART:20261101T060000
END:STANDARD
END:VTIMEZONE
BEGIN:VEVENT
DTSTART;TZID=America/New_York:20250105T180000
DTEND;TZID=America/New_York:20250105T200000
DTSTAMP:20260419T155724
CREATED:20241216T190639Z
LAST-MODIFIED:20241216T190824Z
UID:3534-1736100000-1736107200@www.movechamber.org
SUMMARY:Prince William County Business Town Hall
DESCRIPTION:Register Now\n  \nJoin us to learn about a platform for Muslim business owners and the community to voice concerns on statewide issues. Network with industry leaders in IT\, real estate\, healthcare\, and more while exploring opportunities for growth and collaboration.
URL:https://www.movechamber.org/event/prince-william-county-business-town-hall/
LOCATION:9535 Linton Hall Road Bristow\, VA 20136\, 9535 Linton Hall Road\, Bristow\, VA\, 20136\, United States
CATEGORIES:Advocacy,Business Seminar,Networking
ATTACH;FMTTYPE=image/png:https://www.movechamber.org/wp-content/uploads/2024/12/2.png
END:VEVENT
BEGIN:VEVENT
DTSTART;TZID=America/New_York:20250110T193000
DTEND;TZID=America/New_York:20250110T193000
DTSTAMP:20260419T155724
CREATED:20241216T192357Z
LAST-MODIFIED:20250107T150939Z
UID:3540-1736537400-1736537400@www.movechamber.org
SUMMARY:Aiming for a Big Change? Start Locally.
DESCRIPTION:Register Now\n  \nJoin us to learn about a platform for Muslim business owners and community members to voice concerns on statewide issues.
URL:https://www.movechamber.org/event/aiming-for-a-big-change-start-locally/
LOCATION:West End Islamic Center\, 5000 Shady Grove Rd\, Glen Allen\, VA\, 23059\, United States
CATEGORIES:Advocacy,Inform
ATTACH;FMTTYPE=image/png:https://www.movechamber.org/wp-content/uploads/2024/12/RICHMOND-1-10.png
END:VEVENT
BEGIN:VEVENT
DTSTART;TZID=America/New_York:20250115T120000
DTEND;TZID=America/New_York:20250115T130000
DTSTAMP:20260419T155724
CREATED:20241209T035846Z
LAST-MODIFIED:20241211T173620Z
UID:3484-1736942400-1736946000@www.movechamber.org
SUMMARY:Introduction to State Government Contracting
DESCRIPTION:Register Now\n  \nLearn the essentials of state government contracting\, including SWaM certification and navigating Virginia’s eVA procurement system.
URL:https://www.movechamber.org/event/introduction-to-state-government-contracting/
LOCATION:Zoom
CATEGORIES:Business Seminar,Contracting,Inform,Virtual Event
ATTACH;FMTTYPE=image/jpeg:https://www.movechamber.org/wp-content/uploads/2024/12/MOVE-Flyer1-15.jpg
END:VEVENT
BEGIN:VEVENT
DTSTART;TZID=America/New_York:20250126T100000
DTEND;TZID=America/New_York:20250126T140000
DTSTAMP:20260419T155724
CREATED:20241229T191043Z
LAST-MODIFIED:20241230T034915Z
UID:3582-1737885600-1737900000@www.movechamber.org
SUMMARY:How to Dominate a Niche and Build an 8 Figure Brand on Amazon
DESCRIPTION:Register Now\n  \nJoin Amazon Guru Ahmet who has built multimillion dollar brands to learn to market\, sell and grow on Amazon.
URL:https://www.movechamber.org/event/how-to-dominate-a-niche-and-build-an-8-figure-brand-on-amazon/
LOCATION:GEM Multicultural Center\, 6300 Independence Parkway Suite A\, Plano\, TX\, 75023\, United States
CATEGORIES:Business Seminar,Inform,Texas
ATTACH;FMTTYPE=image/png:https://www.movechamber.org/wp-content/uploads/2024/12/TX-AMZGURU.png
END:VEVENT
BEGIN:VEVENT
DTSTART;TZID=America/New_York:20250129T100000
DTEND;TZID=America/New_York:20250129T120000
DTSTAMP:20260419T155724
CREATED:20241211T173541Z
LAST-MODIFIED:20241229T210514Z
UID:3501-1738144800-1738152000@www.movechamber.org
SUMMARY:SWaM Certification Lab
DESCRIPTION:Register Now\n  \nJoin us for this members-only in-person event in Fairfax\, VA with representatives assisting entrepreneurs through the process of SWaM certification. \n  \nJoin us for this hands-on event where representatives will help you apply for certification on-site. Please bring your laptops! Limited to 15 people\, free for members. Those interested in applying must have a business entity registered in the Commonwealth of Virginia. 
URL:https://www.movechamber.org/event/swam-certification-lab/
CATEGORIES:Business Seminar,Contracting,Member-Only
ATTACH;FMTTYPE=image/png:https://www.movechamber.org/wp-content/uploads/2024/12/MOVE-Flyers-1.png
END:VEVENT
END:VCALENDAR